BEGIN:VCALENDAR
VERSION:2.0
PRODID:-//ASCPrev - ECPv6.15.11//NONSGML v1.0//EN
CALSCALE:GREGORIAN
METHOD:PUBLISH
X-ORIGINAL-URL:http://www.ascprev.com.br
X-WR-CALDESC:Eventos para ASCPrev
REFRESH-INTERVAL;VALUE=DURATION:PT1H
X-Robots-Tag:noindex
X-PUBLISHED-TTL:PT1H
BEGIN:VTIMEZONE
TZID:America/Sao_Paulo
BEGIN:STANDARD
TZOFFSETFROM:-0200
TZOFFSETTO:-0300
TZNAME:-03
DTSTART:20170219T020000
END:STANDARD
BEGIN:DAYLIGHT
TZOFFSETFROM:-0300
TZOFFSETTO:-0200
TZNAME:-02
DTSTART:20171015T030000
END:DAYLIGHT
BEGIN:STANDARD
TZOFFSETFROM:-0200
TZOFFSETTO:-0300
TZNAME:-03
DTSTART:20180218T020000
END:STANDARD
BEGIN:DAYLIGHT
TZOFFSETFROM:-0300
TZOFFSETTO:-0200
TZNAME:-02
DTSTART:20181104T030000
END:DAYLIGHT
BEGIN:STANDARD
TZOFFSETFROM:-0200
TZOFFSETTO:-0300
TZNAME:-03
DTSTART:20190217T020000
END:STANDARD
END:VTIMEZONE
BEGIN:VEVENT
DTSTART;TZID=America/Sao_Paulo:20190904T100000
DTEND;TZID=America/Sao_Paulo:20190904T100000
DTSTAMP:20260423T201048
CREATED:20190823T214457Z
LAST-MODIFIED:20190823T214457Z
UID:1729-1567591200-1567591200@www.ascprev.com.br
SUMMARY:Reunião da Diretoria e Coordenadores das Comissões
DESCRIPTION:
URL:http://www.ascprev.com.br/evento/reuniao-da-diretoria-e-coordenadores-das-comissoes/
LOCATION:sede da ASCPrev\, Praça Pereira Oliveira\, 64\, sala 503. Edifício Emedaux\, Florianópolis\, Santa Catarina\, 88010-540\, Brasil
ATTACH;FMTTYPE=image/png:http://www.ascprev.com.br/wp-content/uploads/2017/11/logo-ASCPrev-site.png
END:VEVENT
BEGIN:VEVENT
DTSTART;TZID=America/Sao_Paulo:20190903T133000
DTEND;TZID=America/Sao_Paulo:20190903T133000
DTSTAMP:20260423T201048
CREATED:20190902T151601Z
LAST-MODIFIED:20190902T152723Z
UID:1740-1567517400-1567517400@www.ascprev.com.br
SUMMARY:Reunião da Comissão do Programa A Escolha Certa
DESCRIPTION:
URL:http://www.ascprev.com.br/evento/reuniao-da-comissao-do-programa-a-escolha-certa/
LOCATION:sede da ASCPrev\, Praça Pereira Oliveira\, 64\, sala 503. Edifício Emedaux\, Florianópolis\, Santa Catarina\, 88010-540\, Brasil
ATTACH;FMTTYPE=image/png:http://www.ascprev.com.br/wp-content/uploads/2017/06/escolha_certa_png.png
END:VEVENT
BEGIN:VEVENT
DTSTART;TZID=America/Sao_Paulo:20190823T100000
DTEND;TZID=America/Sao_Paulo:20190823T100000
DTSTAMP:20260423T201048
CREATED:20190809T202855Z
LAST-MODIFIED:20190823T214246Z
UID:1722-1566554400-1566554400@www.ascprev.com.br
SUMMARY:Reunião de Dirigentes das entidades associadas à ASCPrev
DESCRIPTION:
URL:http://www.ascprev.com.br/evento/reuniao-de-dirigentes-das-entidades-associadas-a-ascprev/
LOCATION:sede da ASCPrev\, Praça Pereira Oliveira\, 64\, sala 503. Edifício Emedaux\, Florianópolis\, Santa Catarina\, 88010-540\, Brasil
END:VEVENT
BEGIN:VEVENT
DTSTART;TZID=America/Sao_Paulo:20190806T160000
DTEND;TZID=America/Sao_Paulo:20190806T160000
DTSTAMP:20260423T201048
CREATED:20190805T205949Z
LAST-MODIFIED:20190805T205949Z
UID:1715-1565107200-1565107200@www.ascprev.com.br
SUMMARY:Reunião Diretoria e Coordenação das Comissões
DESCRIPTION:
URL:http://www.ascprev.com.br/evento/reuniao-diretoria-e-coordenacao-das-comissoes/
LOCATION:Fundação ELOS\, Praça Pereira Oliveira\, 64\, Florianópolis\, Santa Catarina\, 88010540\, Brasil
END:VEVENT
BEGIN:VEVENT
DTSTART;TZID=America/Sao_Paulo:20190801T133000
DTEND;TZID=America/Sao_Paulo:20190801T170000
DTSTAMP:20260423T201048
CREATED:20190712T181721Z
LAST-MODIFIED:20190712T182022Z
UID:1692-1564666200-1564678800@www.ascprev.com.br
SUMMARY:Reunião Comissão PEFP A Escolha Certa
DESCRIPTION:
URL:http://www.ascprev.com.br/evento/reuniao-comissao-pefp-a-escolha-certa-21/
LOCATION:Fundação ELOS\, Praça Pereira Oliveira\, 64\, Florianópolis\, Santa Catarina\, 88010540\, Brasil
ATTACH;FMTTYPE=image/png:http://www.ascprev.com.br/wp-content/uploads/2017/06/escolha_certa_png.png
END:VEVENT
BEGIN:VEVENT
DTSTART;TZID=America/Sao_Paulo:20190731T083000
DTEND;TZID=America/Sao_Paulo:20190731T083000
DTSTAMP:20260423T201048
CREATED:20190701T223122Z
LAST-MODIFIED:20190701T223259Z
UID:1684-1564561800-1564561800@www.ascprev.com.br
SUMMARY:Reunião da Comissão Atuarial
DESCRIPTION:
URL:http://www.ascprev.com.br/evento/reuniao-comissao-atuarial/
LOCATION:sede da ASCPrev\, Praça Pereira Oliveira\, 64\, sala 503. Edifício Emedaux\, Florianópolis\, Santa Catarina\, 88010-540\, Brasil
ATTACH;FMTTYPE=image/png:http://www.ascprev.com.br/wp-content/uploads/2017/11/logo-ASCPrev-site.png
END:VEVENT
BEGIN:VEVENT
DTSTART;TZID=America/Sao_Paulo:20190726T100000
DTEND;TZID=America/Sao_Paulo:20190726T100000
DTSTAMP:20260423T201048
CREATED:20190701T222735Z
LAST-MODIFIED:20190701T223355Z
UID:1682-1564135200-1564135200@www.ascprev.com.br
SUMMARY:Reunião da Comissão de Investimentos com o Patrocinador Franklin Templeton
DESCRIPTION:
URL:http://www.ascprev.com.br/evento/reuniao-da-comissao-de-investimentos-com-o-patrocinador-franklin-templeton/
LOCATION:sede da ASCPrev\, Praça Pereira Oliveira\, 64\, sala 503. Edifício Emedaux\, Florianópolis\, Santa Catarina\, 88010-540\, Brasil
ATTACH;FMTTYPE=image/png:http://www.ascprev.com.br/wp-content/uploads/2017/11/logo-ASCPrev-site.png
END:VEVENT
BEGIN:VEVENT
DTSTART;TZID=America/Sao_Paulo:20190703T100000
DTEND;TZID=America/Sao_Paulo:20190703T100000
DTSTAMP:20260423T201048
CREATED:20190701T222334Z
LAST-MODIFIED:20190701T222539Z
UID:1680-1562148000-1562148000@www.ascprev.com.br
SUMMARY:Reunião da Diretoria com os coordenadores das Comissões
DESCRIPTION:
URL:http://www.ascprev.com.br/evento/reuniao-da-diretoria-com-os-coordenadores-das-comissoes/
LOCATION:Fundação ELOS\, Praça Pereira Oliveira\, 64\, Florianópolis\, Santa Catarina\, 88010540\, Brasil
ATTACH;FMTTYPE=image/png:http://www.ascprev.com.br/wp-content/uploads/2017/11/logo-ASCPrev-site.png
END:VEVENT
BEGIN:VEVENT
DTSTART;TZID=America/Sao_Paulo:20190619T150000
DTEND;TZID=America/Sao_Paulo:20190619T173000
DTSTAMP:20260423T201048
CREATED:20190611T212711Z
LAST-MODIFIED:20190612T133523Z
UID:1658-1560956400-1560965400@www.ascprev.com.br
SUMMARY:Reunião da Comissão Técnica de Seguridade da ASCPrev
DESCRIPTION:
URL:http://www.ascprev.com.br/evento/reuniao-da-comissao-tecnica-de-seguridade-da-ascprev/
LOCATION:Fundação ELOS\, Praça Pereira Oliveira\, 64\, Florianópolis\, Santa Catarina\, 88010540\, Brasil
ATTACH;FMTTYPE=image/png:http://www.ascprev.com.br/wp-content/uploads/2017/11/logo-ASCPrev-site.png
END:VEVENT
BEGIN:VEVENT
DTSTART;TZID=America/Sao_Paulo:20190618T133000
DTEND;TZID=America/Sao_Paulo:20190618T170000
DTSTAMP:20260423T201048
CREATED:20190612T142601Z
LAST-MODIFIED:20190612T142931Z
UID:1661-1560864600-1560877200@www.ascprev.com.br
SUMMARY:Reunião Comissão PEFP A Escolha Certa
DESCRIPTION:
URL:http://www.ascprev.com.br/evento/reuniao-comissao-pefp-a-escolha-certa-20/
LOCATION:Auditório da Fusesc\, Rua Dom Jaime Câmara\, 217 - Centro\, Florianópolis\, Santa Catarina\, Brasil
ATTACH;FMTTYPE=image/png:http://www.ascprev.com.br/wp-content/uploads/2017/06/escolha_certa_png.png
END:VEVENT
BEGIN:VEVENT
DTSTART;TZID=America/Sao_Paulo:20190529T083000
DTEND;TZID=America/Sao_Paulo:20190529T170000
DTSTAMP:20260423T201048
CREATED:20190527T143813Z
LAST-MODIFIED:20190527T144011Z
UID:1646-1559118600-1559149200@www.ascprev.com.br
SUMMARY:Reunião da Comissão Técnica Atuarial da ASCPrev
DESCRIPTION:
URL:http://www.ascprev.com.br/evento/reuniao-da-comissao-tecnica-atuarial-da-ascprev-2/
LOCATION:Sede da CELOS\, Avenida Hercílio Luz\, nº 639 - Sala 509\, Florianópolis\, Santa Catarina\, 88020001\, Brasil
END:VEVENT
BEGIN:VEVENT
DTSTART;TZID=America/Sao_Paulo:20190529T083000
DTEND;TZID=America/Sao_Paulo:20190529T083000
DTSTAMP:20260423T201048
CREATED:20190515T202935Z
LAST-MODIFIED:20190515T203039Z
UID:1633-1559118600-1559118600@www.ascprev.com.br
SUMMARY:Reunião da Comissão Atuarial
DESCRIPTION:
URL:http://www.ascprev.com.br/evento/reuniao-da-comissao-atuarial-2/
LOCATION:Santa Catarina
ATTACH;FMTTYPE=image/png:http://www.ascprev.com.br/wp-content/uploads/2017/11/logo-ASCPrev-site.png
END:VEVENT
BEGIN:VEVENT
DTSTART;TZID=America/Sao_Paulo:20190514T140000
DTEND;TZID=America/Sao_Paulo:20190515T180000
DTSTAMP:20260423T201048
CREATED:20190319T212305Z
LAST-MODIFIED:20190319T212305Z
UID:1555-1557842400-1557943200@www.ascprev.com.br
SUMMARY:Curso In Company “Exercício da Função de Conselheiro” - Módulo IV
DESCRIPTION:
URL:http://www.ascprev.com.br/evento/curso-in-company-exercicio-da-funcao-de-conselheiro-modulo-iv/
LOCATION:Auditório da Fusesc\, Rua Dom Jaime Câmara\, 217 - Centro\, Florianópolis\, Santa Catarina\, Brasil
END:VEVENT
BEGIN:VEVENT
DTSTART;VALUE=DATE:20190514
DTEND;VALUE=DATE:20190515
DTSTAMP:20260423T201048
CREATED:20190515T202823Z
LAST-MODIFIED:20190515T203150Z
UID:1630-1557792000-1557878399@www.ascprev.com.br
SUMMARY:Reunião Comissão PEFP A Escolha Certa
DESCRIPTION:
URL:http://www.ascprev.com.br/evento/reuniao-comissao-pefp-a-escolha-certa-19/
LOCATION:PREVIG\, Rua Emílio Blum\, 131\, Torre A\, 5º andar\, Hantei Office Building\, Florianópolis\, Santa Catarina\, 88020-010\, Brasil
ATTACH;FMTTYPE=image/png:http://www.ascprev.com.br/wp-content/uploads/2017/06/escolha_certa_png.png
END:VEVENT
BEGIN:VEVENT
DTSTART;TZID=America/Sao_Paulo:20190503T083000
DTEND;TZID=America/Sao_Paulo:20190503T083000
DTSTAMP:20260423T201048
CREATED:20190426T221259Z
LAST-MODIFIED:20190426T221259Z
UID:1600-1556872200-1556872200@www.ascprev.com.br
SUMMARY:Assembleia Geral Extraordinária ASCPrev
DESCRIPTION:
URL:http://www.ascprev.com.br/evento/assembleia-geral-extraordinaria-ascprev/
LOCATION:Fundação ELOS\, Praça Pereira Oliveira\, 64\, Florianópolis\, Santa Catarina\, 88010540\, Brasil
ATTACH;FMTTYPE=image/png:http://www.ascprev.com.br/wp-content/uploads/2017/11/logo-ASCPrev-site.png
END:VEVENT
BEGIN:VEVENT
DTSTART;TZID=America/Sao_Paulo:20190423T090000
DTEND;TZID=America/Sao_Paulo:20190424T180000
DTSTAMP:20260423T201048
CREATED:20190319T211522Z
LAST-MODIFIED:20190319T211522Z
UID:1553-1556010000-1556128800@www.ascprev.com.br
SUMMARY:Curso In Company “Exercício da Função de Conselheiro” - Módulo III
DESCRIPTION:
URL:http://www.ascprev.com.br/evento/curso-in-company-exercicio-da-funcao-de-conselheiro-modulo-iii/
LOCATION:Auditório da Fusesc\, Rua Dom Jaime Câmara\, 217 - Centro\, Florianópolis\, Santa Catarina\, Brasil
END:VEVENT
BEGIN:VEVENT
DTSTART;VALUE=DATE:20190410
DTEND;VALUE=DATE:20190411
DTSTAMP:20260423T201048
CREATED:20190410T185621Z
LAST-MODIFIED:20190410T185621Z
UID:1586-1554854400-1554940799@www.ascprev.com.br
SUMMARY:Reunião Comissão PEFP A Escolha Certa
DESCRIPTION:
URL:http://www.ascprev.com.br/evento/reuniao-comissao-pefp-a-escolha-certa-18/
LOCATION:sede da ASCPrev\, Praça Pereira Oliveira\, 64\, sala 503. Edifício Emedaux\, Florianópolis\, Santa Catarina\, 88010-540\, Brasil
ATTACH;FMTTYPE=image/png:http://www.ascprev.com.br/wp-content/uploads/2017/06/escolha_certa_png.png
END:VEVENT
BEGIN:VEVENT
DTSTART;TZID=America/Sao_Paulo:20190409T090000
DTEND;TZID=America/Sao_Paulo:20190411T123000
DTSTAMP:20260423T201048
CREATED:20190319T211241Z
LAST-MODIFIED:20190319T211241Z
UID:1550-1554800400-1554985800@www.ascprev.com.br
SUMMARY:Curso In Company “Exercício da Função de Conselheiro” - Módulo II
DESCRIPTION:
URL:http://www.ascprev.com.br/evento/curso-in-company-exercicio-da-funcao-de-conselheiro-modulo-ii/
LOCATION:Auditório da Fusesc\, Rua Dom Jaime Câmara\, 217 - Centro\, Florianópolis\, Santa Catarina\, Brasil
END:VEVENT
BEGIN:VEVENT
DTSTART;TZID=America/Sao_Paulo:20190404T083000
DTEND;TZID=America/Sao_Paulo:20190404T083000
DTSTAMP:20260423T201048
CREATED:20190401T181523Z
LAST-MODIFIED:20190401T181523Z
UID:1572-1554366600-1554366600@www.ascprev.com.br
SUMMARY:Reunião da Comissão Técnica Atuarial da ASCPrev
DESCRIPTION:
URL:http://www.ascprev.com.br/evento/reuniao-da-comissao-tecnica-atuarial-da-ascprev/
LOCATION:sede da ASCPrev\, Praça Pereira Oliveira\, 64\, sala 503. Edifício Emedaux\, Florianópolis\, Santa Catarina\, 88010-540\, Brasil
END:VEVENT
BEGIN:VEVENT
DTSTART;TZID=America/Sao_Paulo:20190320T080000
DTEND;TZID=America/Sao_Paulo:20190322T180000
DTSTAMP:20260423T201048
CREATED:20190307T190924Z
LAST-MODIFIED:20190319T210803Z
UID:1544-1553068800-1553277600@www.ascprev.com.br
SUMMARY:Curso In Company “Exercício da Função de Conselheiro” - Módulo I
DESCRIPTION:
URL:http://www.ascprev.com.br/evento/curso-in-company-exercicio-da-funcao-de-conselheiro/
LOCATION:Auditório da Fusesc\, Rua Dom Jaime Câmara\, 217 - Centro\, Florianópolis\, Santa Catarina\, Brasil
END:VEVENT
BEGIN:VEVENT
DTSTART;TZID=America/Sao_Paulo:20190315T083000
DTEND;TZID=America/Sao_Paulo:20190315T083000
DTSTAMP:20260423T201048
CREATED:20190307T190826Z
LAST-MODIFIED:20190313T173412Z
UID:1541-1552638600-1552638600@www.ascprev.com.br
SUMMARY:Assembleia Ordinária
DESCRIPTION:
URL:http://www.ascprev.com.br/evento/assembleia-ordinaria/
LOCATION:Fundação ELOS\, Praça Pereira Oliveira\, 64\, Florianópolis\, Santa Catarina\, 88010540\, Brasil
ATTACH;FMTTYPE=image/png:http://www.ascprev.com.br/wp-content/uploads/2017/11/logo-ASCPrev-site.png
END:VEVENT
BEGIN:VEVENT
DTSTART;TZID=America/Sao_Paulo:20190222T100000
DTEND;TZID=America/Sao_Paulo:20190222T100000
DTSTAMP:20260423T201048
CREATED:20190208T143416Z
LAST-MODIFIED:20190213T122813Z
UID:1522-1550829600-1550829600@www.ascprev.com.br
SUMMARY:Reunião Comissão Técnica de Investimentos com o patrocinador BNP Paribas
DESCRIPTION:
URL:http://www.ascprev.com.br/evento/palestra-cenario-macro-economico-e-utilizacao-da-estrategia-de-fundos-nas-fundacoes/
LOCATION:Hotel Mercury\, Rua Felipe Schmidt\, 1102\, Florianópolis\, Brasil
END:VEVENT
BEGIN:VEVENT
DTSTART;TZID=America/Sao_Paulo:20190219T133000
DTEND;TZID=America/Sao_Paulo:20190219T133000
DTSTAMP:20260423T201048
CREATED:20190212T121302Z
LAST-MODIFIED:20190212T121302Z
UID:1525-1550583000-1550583000@www.ascprev.com.br
SUMMARY:Reunião Comissão PEFP A Escolha Certa
DESCRIPTION:
URL:http://www.ascprev.com.br/evento/reuniao-comissao-pefp-a-escolha-certa-17/
LOCATION:sede da ASCPrev\, Praça Pereira Oliveira\, 64\, sala 503. Edifício Emedaux\, Florianópolis\, Santa Catarina\, 88010-540\, Brasil
ATTACH;FMTTYPE=image/png:http://www.ascprev.com.br/wp-content/uploads/2017/06/escolha_certa_png.png
END:VEVENT
BEGIN:VEVENT
DTSTART;TZID=America/Sao_Paulo:20190215T100000
DTEND;TZID=America/Sao_Paulo:20190215T100000
DTSTAMP:20260423T201048
CREATED:20190117T192604Z
LAST-MODIFIED:20190117T192604Z
UID:1508-1550224800-1550224800@www.ascprev.com.br
SUMMARY:Reunião Diretoria ASCPrev
DESCRIPTION:
URL:http://www.ascprev.com.br/evento/reuniao-diretoria-ascprev-2/
LOCATION:sede da ASCPrev\, Praça Pereira Oliveira\, 64\, sala 503. Edifício Emedaux\, Florianópolis\, Santa Catarina\, 88010-540\, Brasil
ATTACH;FMTTYPE=image/png:http://www.ascprev.com.br/wp-content/uploads/2017/11/logo-ASCPrev-site.png
END:VEVENT
BEGIN:VEVENT
DTSTART;TZID=America/Sao_Paulo:20190201T093000
DTEND;TZID=America/Sao_Paulo:20190201T120000
DTSTAMP:20260423T201048
CREATED:20190117T192459Z
LAST-MODIFIED:20190125T204310Z
UID:1506-1549013400-1549022400@www.ascprev.com.br
SUMMARY:Reunião Comissão de Investimentos com Patrocinador Vinci Partners
DESCRIPTION:
URL:http://www.ascprev.com.br/evento/reuniao-comissao-de-investimentos-com-patrocinador-vinci-partners/
LOCATION:Hotel Mercury\, Rua Felipe Schmidt\, 1102\, Florianópolis\, Brasil
ATTACH;FMTTYPE=image/png:http://www.ascprev.com.br/wp-content/uploads/2017/11/logo-ASCPrev-site.png
END:VEVENT
BEGIN:VEVENT
DTSTART;TZID=America/Sao_Paulo:20190130T090000
DTEND;TZID=America/Sao_Paulo:20190130T090000
DTSTAMP:20260423T201048
CREATED:20190117T192358Z
LAST-MODIFIED:20190117T192411Z
UID:1503-1548838800-1548838800@www.ascprev.com.br
SUMMARY:Reunião Comissão Atuarial
DESCRIPTION:
URL:http://www.ascprev.com.br/evento/reuniao-da-comissao-atuarial/
LOCATION:sede da ASCPrev\, Praça Pereira Oliveira\, 64\, sala 503. Edifício Emedaux\, Florianópolis\, Santa Catarina\, 88010-540\, Brasil
ATTACH;FMTTYPE=image/png:http://www.ascprev.com.br/wp-content/uploads/2017/11/logo-ASCPrev-site.png
END:VEVENT
BEGIN:VEVENT
DTSTART;TZID=America/Sao_Paulo:20190123T133000
DTEND;TZID=America/Sao_Paulo:20190123T133000
DTSTAMP:20260423T201048
CREATED:20190117T192240Z
LAST-MODIFIED:20190122T163704Z
UID:1501-1548250200-1548250200@www.ascprev.com.br
SUMMARY:Reunião Comissão PEFP A Escolha Certa
DESCRIPTION:
URL:http://www.ascprev.com.br/evento/reuniao-comissao-pefp-a-escolha-certa-16/
LOCATION:sede da ASCPrev\, Praça Pereira Oliveira\, 64\, sala 503. Edifício Emedaux\, Florianópolis\, Santa Catarina\, 88010-540\, Brasil
ATTACH;FMTTYPE=image/png:http://www.ascprev.com.br/wp-content/uploads/2017/06/escolha_certa_png.png
END:VEVENT
BEGIN:VEVENT
DTSTART;TZID=America/Sao_Paulo:20181213T090000
DTEND;TZID=America/Sao_Paulo:20181213T090000
DTSTAMP:20260423T201048
CREATED:20181120T175722Z
LAST-MODIFIED:20181121T154457Z
UID:1455-1544691600-1544691600@www.ascprev.com.br
SUMMARY:Reunião Comissão Técnica Atuarial
DESCRIPTION:
URL:http://www.ascprev.com.br/evento/reuniao-comissao-tecnica-atuarial-3/
LOCATION:sede da ASCPrev\, Praça Pereira Oliveira\, 64\, sala 503. Edifício Emedaux\, Florianópolis\, Santa Catarina\, 88010-540\, Brasil
ATTACH;FMTTYPE=image/png:http://www.ascprev.com.br/wp-content/uploads/2017/11/logo-ASCPrev-site.png
END:VEVENT
BEGIN:VEVENT
DTSTART;TZID=America/Sao_Paulo:20181211T133000
DTEND;TZID=America/Sao_Paulo:20181211T133000
DTSTAMP:20260423T201049
CREATED:20181120T175532Z
LAST-MODIFIED:20181207T114151Z
UID:1453-1544535000-1544535000@www.ascprev.com.br
SUMMARY:Reunião Comissão PEFP A Escolha Certa
DESCRIPTION:
URL:http://www.ascprev.com.br/evento/reuniao-comissao-pefp-a-escolha-certa-15/
LOCATION:sede da ASCPrev\, Praça Pereira Oliveira\, 64\, sala 503. Edifício Emedaux\, Florianópolis\, Santa Catarina\, 88010-540\, Brasil
ATTACH;FMTTYPE=image/png:http://www.ascprev.com.br/wp-content/uploads/2017/06/escolha_certa_png.png
END:VEVENT
BEGIN:VEVENT
DTSTART;VALUE=DATE:20181203
DTEND;VALUE=DATE:20181204
DTSTAMP:20260423T201049
CREATED:20181203T134552Z
LAST-MODIFIED:20181203T134552Z
UID:1472-1543795200-1543881599@www.ascprev.com.br
SUMMARY:Reunião de Diretoria
DESCRIPTION:
URL:http://www.ascprev.com.br/evento/reuniao-de-diretoria-5/
LOCATION:sede da ASCPrev\, Praça Pereira Oliveira\, 64\, sala 503. Edifício Emedaux\, Florianópolis\, Santa Catarina\, 88010-540\, Brasil
ATTACH;FMTTYPE=image/png:http://www.ascprev.com.br/wp-content/uploads/2017/11/logo-ASCPrev-site.png
END:VEVENT
END:VCALENDAR